BEGIN:VCALENDAR
VERSION:2.0
PRODID:-//St Saviours - ECPv6.15.20//NONSGML v1.0//EN
CALSCALE:GREGORIAN
METHOD:PUBLISH
X-WR-CALNAME:St Saviours
X-ORIGINAL-URL:https://www.stsaviours.net
X-WR-CALDESC:Events for St Saviours
REFRESH-INTERVAL;VALUE=DURATION:PT1H
X-Robots-Tag:noindex
X-PUBLISHED-TTL:PT1H
BEGIN:VTIMEZONE
TZID:Europe/London
BEGIN:DAYLIGHT
TZOFFSETFROM:+0000
TZOFFSETTO:+0100
TZNAME:BST
DTSTART:20250330T010000
END:DAYLIGHT
BEGIN:STANDARD
TZOFFSETFROM:+0100
TZOFFSETTO:+0000
TZNAME:GMT
DTSTART:20251026T010000
END:STANDARD
BEGIN:DAYLIGHT
TZOFFSETFROM:+0000
TZOFFSETTO:+0100
TZNAME:BST
DTSTART:20260329T010000
END:DAYLIGHT
BEGIN:STANDARD
TZOFFSETFROM:+0100
TZOFFSETTO:+0000
TZNAME:GMT
DTSTART:20261025T010000
END:STANDARD
BEGIN:DAYLIGHT
TZOFFSETFROM:+0000
TZOFFSETTO:+0100
TZNAME:BST
DTSTART:20270328T010000
END:DAYLIGHT
BEGIN:STANDARD
TZOFFSETFROM:+0100
TZOFFSETTO:+0000
TZNAME:GMT
DTSTART:20271031T010000
END:STANDARD
END:VTIMEZONE
BEGIN:VEVENT
DTSTART;TZID=Europe/London:20260428T100000
DTEND;TZID=Europe/London:20260428T120000
DTSTAMP:20260423T174602
CREATED:20260111T134106Z
LAST-MODIFIED:20260111T134252Z
UID:10005249-1777370400-1777377600@www.stsaviours.net
SUMMARY:Knit\, Crochet and Chatter
DESCRIPTION:Everyone who likes knitting or crochet\, sewing or embroidery\, even crafts – bring your own and join in the fun! Share ideas and patterns\, learn new skills\, and have a chat! \nRefreshments available. \nAll welcome at this group. Feel free to bring friends and neighbours along too. \nTakes place: First\, Third and Fifth Tuesday of each month (except during school holidays) \nVenue: the Link \nCost: no charge
URL:https://www.stsaviours.net/event/knit-and-natter-2-2-2/2026-04-28/
LOCATION:The Link\, St Saviour’s Church
ATTACH;FMTTYPE=image/png:https://www.stsaviours.net/wp-content/uploads/2021/11/knit.png
END:VEVENT
BEGIN:VEVENT
DTSTART;TZID=Europe/London:20260505T100000
DTEND;TZID=Europe/London:20260505T120000
DTSTAMP:20260423T174602
CREATED:20260111T134106Z
LAST-MODIFIED:20260111T134252Z
UID:10004166-1777975200-1777982400@www.stsaviours.net
SUMMARY:Knit\, Crochet and Chatter
DESCRIPTION:Everyone who likes knitting or crochet\, sewing or embroidery\, even crafts – bring your own and join in the fun! Share ideas and patterns\, learn new skills\, and have a chat! \nRefreshments available. \nAll welcome at this group. Feel free to bring friends and neighbours along too. \nTakes place: First\, Third and Fifth Tuesday of each month (except during school holidays) \nVenue: the Link \nCost: no charge
URL:https://www.stsaviours.net/event/knit-and-natter-2-2-2/2026-05-05/
LOCATION:The Link\, St Saviour’s Church
ATTACH;FMTTYPE=image/png:https://www.stsaviours.net/wp-content/uploads/2021/11/knit.png
END:VEVENT
BEGIN:VEVENT
DTSTART;TZID=Europe/London:20260512T100000
DTEND;TZID=Europe/London:20260512T120000
DTSTAMP:20260423T174602
CREATED:20260111T134106Z
LAST-MODIFIED:20260111T134252Z
UID:10005250-1778580000-1778587200@www.stsaviours.net
SUMMARY:Knit\, Crochet and Chatter
DESCRIPTION:Everyone who likes knitting or crochet\, sewing or embroidery\, even crafts – bring your own and join in the fun! Share ideas and patterns\, learn new skills\, and have a chat! \nRefreshments available. \nAll welcome at this group. Feel free to bring friends and neighbours along too. \nTakes place: First\, Third and Fifth Tuesday of each month (except during school holidays) \nVenue: the Link \nCost: no charge
URL:https://www.stsaviours.net/event/knit-and-natter-2-2-2/2026-05-12/
LOCATION:The Link\, St Saviour’s Church
ATTACH;FMTTYPE=image/png:https://www.stsaviours.net/wp-content/uploads/2021/11/knit.png
END:VEVENT
BEGIN:VEVENT
DTSTART;TZID=Europe/London:20260519T100000
DTEND;TZID=Europe/London:20260519T120000
DTSTAMP:20260423T174602
CREATED:20260111T134106Z
LAST-MODIFIED:20260111T134252Z
UID:10005251-1779184800-1779192000@www.stsaviours.net
SUMMARY:Knit\, Crochet and Chatter
DESCRIPTION:Everyone who likes knitting or crochet\, sewing or embroidery\, even crafts – bring your own and join in the fun! Share ideas and patterns\, learn new skills\, and have a chat! \nRefreshments available. \nAll welcome at this group. Feel free to bring friends and neighbours along too. \nTakes place: First\, Third and Fifth Tuesday of each month (except during school holidays) \nVenue: the Link \nCost: no charge
URL:https://www.stsaviours.net/event/knit-and-natter-2-2-2/2026-05-19/
LOCATION:The Link\, St Saviour’s Church
ATTACH;FMTTYPE=image/png:https://www.stsaviours.net/wp-content/uploads/2021/11/knit.png
END:VEVENT
BEGIN:VEVENT
DTSTART;TZID=Europe/London:20260526T100000
DTEND;TZID=Europe/London:20260526T120000
DTSTAMP:20260423T174602
CREATED:20260111T134106Z
LAST-MODIFIED:20260111T134252Z
UID:10005252-1779789600-1779796800@www.stsaviours.net
SUMMARY:Knit\, Crochet and Chatter
DESCRIPTION:Everyone who likes knitting or crochet\, sewing or embroidery\, even crafts – bring your own and join in the fun! Share ideas and patterns\, learn new skills\, and have a chat! \nRefreshments available. \nAll welcome at this group. Feel free to bring friends and neighbours along too. \nTakes place: First\, Third and Fifth Tuesday of each month (except during school holidays) \nVenue: the Link \nCost: no charge
URL:https://www.stsaviours.net/event/knit-and-natter-2-2-2/2026-05-26/
LOCATION:The Link\, St Saviour’s Church
ATTACH;FMTTYPE=image/png:https://www.stsaviours.net/wp-content/uploads/2021/11/knit.png
END:VEVENT
BEGIN:VEVENT
DTSTART;TZID=Europe/London:20260602T100000
DTEND;TZID=Europe/London:20260602T120000
DTSTAMP:20260423T174602
CREATED:20260111T134106Z
LAST-MODIFIED:20260111T134252Z
UID:10004167-1780394400-1780401600@www.stsaviours.net
SUMMARY:Knit\, Crochet and Chatter
DESCRIPTION:Everyone who likes knitting or crochet\, sewing or embroidery\, even crafts – bring your own and join in the fun! Share ideas and patterns\, learn new skills\, and have a chat! \nRefreshments available. \nAll welcome at this group. Feel free to bring friends and neighbours along too. \nTakes place: First\, Third and Fifth Tuesday of each month (except during school holidays) \nVenue: the Link \nCost: no charge
URL:https://www.stsaviours.net/event/knit-and-natter-2-2-2/2026-06-02/
LOCATION:The Link\, St Saviour’s Church
ATTACH;FMTTYPE=image/png:https://www.stsaviours.net/wp-content/uploads/2021/11/knit.png
END:VEVENT
BEGIN:VEVENT
DTSTART;TZID=Europe/London:20260609T100000
DTEND;TZID=Europe/London:20260609T120000
DTSTAMP:20260423T174602
CREATED:20260111T134106Z
LAST-MODIFIED:20260111T134252Z
UID:10005253-1780999200-1781006400@www.stsaviours.net
SUMMARY:Knit\, Crochet and Chatter
DESCRIPTION:Everyone who likes knitting or crochet\, sewing or embroidery\, even crafts – bring your own and join in the fun! Share ideas and patterns\, learn new skills\, and have a chat! \nRefreshments available. \nAll welcome at this group. Feel free to bring friends and neighbours along too. \nTakes place: First\, Third and Fifth Tuesday of each month (except during school holidays) \nVenue: the Link \nCost: no charge
URL:https://www.stsaviours.net/event/knit-and-natter-2-2-2/2026-06-09/
LOCATION:The Link\, St Saviour’s Church
ATTACH;FMTTYPE=image/png:https://www.stsaviours.net/wp-content/uploads/2021/11/knit.png
END:VEVENT
BEGIN:VEVENT
DTSTART;TZID=Europe/London:20260616T100000
DTEND;TZID=Europe/London:20260616T120000
DTSTAMP:20260423T174602
CREATED:20260111T134106Z
LAST-MODIFIED:20260111T134252Z
UID:10005254-1781604000-1781611200@www.stsaviours.net
SUMMARY:Knit\, Crochet and Chatter
DESCRIPTION:Everyone who likes knitting or crochet\, sewing or embroidery\, even crafts – bring your own and join in the fun! Share ideas and patterns\, learn new skills\, and have a chat! \nRefreshments available. \nAll welcome at this group. Feel free to bring friends and neighbours along too. \nTakes place: First\, Third and Fifth Tuesday of each month (except during school holidays) \nVenue: the Link \nCost: no charge
URL:https://www.stsaviours.net/event/knit-and-natter-2-2-2/2026-06-16/
LOCATION:The Link\, St Saviour’s Church
ATTACH;FMTTYPE=image/png:https://www.stsaviours.net/wp-content/uploads/2021/11/knit.png
END:VEVENT
BEGIN:VEVENT
DTSTART;TZID=Europe/London:20260623T100000
DTEND;TZID=Europe/London:20260623T120000
DTSTAMP:20260423T174602
CREATED:20260111T134106Z
LAST-MODIFIED:20260111T134252Z
UID:10005255-1782208800-1782216000@www.stsaviours.net
SUMMARY:Knit\, Crochet and Chatter
DESCRIPTION:Everyone who likes knitting or crochet\, sewing or embroidery\, even crafts – bring your own and join in the fun! Share ideas and patterns\, learn new skills\, and have a chat! \nRefreshments available. \nAll welcome at this group. Feel free to bring friends and neighbours along too. \nTakes place: First\, Third and Fifth Tuesday of each month (except during school holidays) \nVenue: the Link \nCost: no charge
URL:https://www.stsaviours.net/event/knit-and-natter-2-2-2/2026-06-23/
LOCATION:The Link\, St Saviour’s Church
ATTACH;FMTTYPE=image/png:https://www.stsaviours.net/wp-content/uploads/2021/11/knit.png
END:VEVENT
BEGIN:VEVENT
DTSTART;TZID=Europe/London:20260630T100000
DTEND;TZID=Europe/London:20260630T120000
DTSTAMP:20260423T174602
CREATED:20260111T134106Z
LAST-MODIFIED:20260111T134252Z
UID:10005256-1782813600-1782820800@www.stsaviours.net
SUMMARY:Knit\, Crochet and Chatter
DESCRIPTION:Everyone who likes knitting or crochet\, sewing or embroidery\, even crafts – bring your own and join in the fun! Share ideas and patterns\, learn new skills\, and have a chat! \nRefreshments available. \nAll welcome at this group. Feel free to bring friends and neighbours along too. \nTakes place: First\, Third and Fifth Tuesday of each month (except during school holidays) \nVenue: the Link \nCost: no charge
URL:https://www.stsaviours.net/event/knit-and-natter-2-2-2/2026-06-30/
LOCATION:The Link\, St Saviour’s Church
ATTACH;FMTTYPE=image/png:https://www.stsaviours.net/wp-content/uploads/2021/11/knit.png
END:VEVENT
BEGIN:VEVENT
DTSTART;TZID=Europe/London:20260707T100000
DTEND;TZID=Europe/London:20260707T120000
DTSTAMP:20260423T174602
CREATED:20260111T134106Z
LAST-MODIFIED:20260111T134252Z
UID:10004168-1783418400-1783425600@www.stsaviours.net
SUMMARY:Knit\, Crochet and Chatter
DESCRIPTION:Everyone who likes knitting or crochet\, sewing or embroidery\, even crafts – bring your own and join in the fun! Share ideas and patterns\, learn new skills\, and have a chat! \nRefreshments available. \nAll welcome at this group. Feel free to bring friends and neighbours along too. \nTakes place: First\, Third and Fifth Tuesday of each month (except during school holidays) \nVenue: the Link \nCost: no charge
URL:https://www.stsaviours.net/event/knit-and-natter-2-2-2/2026-07-07/
LOCATION:The Link\, St Saviour’s Church
ATTACH;FMTTYPE=image/png:https://www.stsaviours.net/wp-content/uploads/2021/11/knit.png
END:VEVENT
BEGIN:VEVENT
DTSTART;TZID=Europe/London:20260714T100000
DTEND;TZID=Europe/London:20260714T120000
DTSTAMP:20260423T174602
CREATED:20260111T134106Z
LAST-MODIFIED:20260111T134252Z
UID:10005257-1784023200-1784030400@www.stsaviours.net
SUMMARY:Knit\, Crochet and Chatter
DESCRIPTION:Everyone who likes knitting or crochet\, sewing or embroidery\, even crafts – bring your own and join in the fun! Share ideas and patterns\, learn new skills\, and have a chat! \nRefreshments available. \nAll welcome at this group. Feel free to bring friends and neighbours along too. \nTakes place: First\, Third and Fifth Tuesday of each month (except during school holidays) \nVenue: the Link \nCost: no charge
URL:https://www.stsaviours.net/event/knit-and-natter-2-2-2/2026-07-14/
LOCATION:The Link\, St Saviour’s Church
ATTACH;FMTTYPE=image/png:https://www.stsaviours.net/wp-content/uploads/2021/11/knit.png
END:VEVENT
BEGIN:VEVENT
DTSTART;TZID=Europe/London:20260721T100000
DTEND;TZID=Europe/London:20260721T120000
DTSTAMP:20260423T174602
CREATED:20260111T134106Z
LAST-MODIFIED:20260111T134252Z
UID:10005258-1784628000-1784635200@www.stsaviours.net
SUMMARY:Knit\, Crochet and Chatter
DESCRIPTION:Everyone who likes knitting or crochet\, sewing or embroidery\, even crafts – bring your own and join in the fun! Share ideas and patterns\, learn new skills\, and have a chat! \nRefreshments available. \nAll welcome at this group. Feel free to bring friends and neighbours along too. \nTakes place: First\, Third and Fifth Tuesday of each month (except during school holidays) \nVenue: the Link \nCost: no charge
URL:https://www.stsaviours.net/event/knit-and-natter-2-2-2/2026-07-21/
LOCATION:The Link\, St Saviour’s Church
ATTACH;FMTTYPE=image/png:https://www.stsaviours.net/wp-content/uploads/2021/11/knit.png
END:VEVENT
BEGIN:VEVENT
DTSTART;TZID=Europe/London:20260728T100000
DTEND;TZID=Europe/London:20260728T120000
DTSTAMP:20260423T174602
CREATED:20260111T134106Z
LAST-MODIFIED:20260111T134252Z
UID:10005259-1785232800-1785240000@www.stsaviours.net
SUMMARY:Knit\, Crochet and Chatter
DESCRIPTION:Everyone who likes knitting or crochet\, sewing or embroidery\, even crafts – bring your own and join in the fun! Share ideas and patterns\, learn new skills\, and have a chat! \nRefreshments available. \nAll welcome at this group. Feel free to bring friends and neighbours along too. \nTakes place: First\, Third and Fifth Tuesday of each month (except during school holidays) \nVenue: the Link \nCost: no charge
URL:https://www.stsaviours.net/event/knit-and-natter-2-2-2/2026-07-28/
LOCATION:The Link\, St Saviour’s Church
ATTACH;FMTTYPE=image/png:https://www.stsaviours.net/wp-content/uploads/2021/11/knit.png
END:VEVENT
BEGIN:VEVENT
DTSTART;TZID=Europe/London:20260804T100000
DTEND;TZID=Europe/London:20260804T120000
DTSTAMP:20260423T174602
CREATED:20260111T134106Z
LAST-MODIFIED:20260111T134252Z
UID:10004169-1785837600-1785844800@www.stsaviours.net
SUMMARY:Knit\, Crochet and Chatter
DESCRIPTION:Everyone who likes knitting or crochet\, sewing or embroidery\, even crafts – bring your own and join in the fun! Share ideas and patterns\, learn new skills\, and have a chat! \nRefreshments available. \nAll welcome at this group. Feel free to bring friends and neighbours along too. \nTakes place: First\, Third and Fifth Tuesday of each month (except during school holidays) \nVenue: the Link \nCost: no charge
URL:https://www.stsaviours.net/event/knit-and-natter-2-2-2/2026-08-04/
LOCATION:The Link\, St Saviour’s Church
ATTACH;FMTTYPE=image/png:https://www.stsaviours.net/wp-content/uploads/2021/11/knit.png
END:VEVENT
BEGIN:VEVENT
DTSTART;TZID=Europe/London:20260811T100000
DTEND;TZID=Europe/London:20260811T120000
DTSTAMP:20260423T174602
CREATED:20260111T134106Z
LAST-MODIFIED:20260111T134252Z
UID:10005260-1786442400-1786449600@www.stsaviours.net
SUMMARY:Knit\, Crochet and Chatter
DESCRIPTION:Everyone who likes knitting or crochet\, sewing or embroidery\, even crafts – bring your own and join in the fun! Share ideas and patterns\, learn new skills\, and have a chat! \nRefreshments available. \nAll welcome at this group. Feel free to bring friends and neighbours along too. \nTakes place: First\, Third and Fifth Tuesday of each month (except during school holidays) \nVenue: the Link \nCost: no charge
URL:https://www.stsaviours.net/event/knit-and-natter-2-2-2/2026-08-11/
LOCATION:The Link\, St Saviour’s Church
ATTACH;FMTTYPE=image/png:https://www.stsaviours.net/wp-content/uploads/2021/11/knit.png
END:VEVENT
BEGIN:VEVENT
DTSTART;TZID=Europe/London:20260818T100000
DTEND;TZID=Europe/London:20260818T120000
DTSTAMP:20260423T174602
CREATED:20260111T134106Z
LAST-MODIFIED:20260111T134252Z
UID:10005261-1787047200-1787054400@www.stsaviours.net
SUMMARY:Knit\, Crochet and Chatter
DESCRIPTION:Everyone who likes knitting or crochet\, sewing or embroidery\, even crafts – bring your own and join in the fun! Share ideas and patterns\, learn new skills\, and have a chat! \nRefreshments available. \nAll welcome at this group. Feel free to bring friends and neighbours along too. \nTakes place: First\, Third and Fifth Tuesday of each month (except during school holidays) \nVenue: the Link \nCost: no charge
URL:https://www.stsaviours.net/event/knit-and-natter-2-2-2/2026-08-18/
LOCATION:The Link\, St Saviour’s Church
ATTACH;FMTTYPE=image/png:https://www.stsaviours.net/wp-content/uploads/2021/11/knit.png
END:VEVENT
BEGIN:VEVENT
DTSTART;TZID=Europe/London:20260825T100000
DTEND;TZID=Europe/London:20260825T120000
DTSTAMP:20260423T174602
CREATED:20260111T134106Z
LAST-MODIFIED:20260111T134252Z
UID:10005262-1787652000-1787659200@www.stsaviours.net
SUMMARY:Knit\, Crochet and Chatter
DESCRIPTION:Everyone who likes knitting or crochet\, sewing or embroidery\, even crafts – bring your own and join in the fun! Share ideas and patterns\, learn new skills\, and have a chat! \nRefreshments available. \nAll welcome at this group. Feel free to bring friends and neighbours along too. \nTakes place: First\, Third and Fifth Tuesday of each month (except during school holidays) \nVenue: the Link \nCost: no charge
URL:https://www.stsaviours.net/event/knit-and-natter-2-2-2/2026-08-25/
LOCATION:The Link\, St Saviour’s Church
ATTACH;FMTTYPE=image/png:https://www.stsaviours.net/wp-content/uploads/2021/11/knit.png
END:VEVENT
BEGIN:VEVENT
DTSTART;TZID=Europe/London:20260901T100000
DTEND;TZID=Europe/London:20260901T120000
DTSTAMP:20260423T174602
CREATED:20260111T134106Z
LAST-MODIFIED:20260111T134252Z
UID:10004170-1788256800-1788264000@www.stsaviours.net
SUMMARY:Knit\, Crochet and Chatter
DESCRIPTION:Everyone who likes knitting or crochet\, sewing or embroidery\, even crafts – bring your own and join in the fun! Share ideas and patterns\, learn new skills\, and have a chat! \nRefreshments available. \nAll welcome at this group. Feel free to bring friends and neighbours along too. \nTakes place: First\, Third and Fifth Tuesday of each month (except during school holidays) \nVenue: the Link \nCost: no charge
URL:https://www.stsaviours.net/event/knit-and-natter-2-2-2/2026-09-01/
LOCATION:The Link\, St Saviour’s Church
ATTACH;FMTTYPE=image/png:https://www.stsaviours.net/wp-content/uploads/2021/11/knit.png
END:VEVENT
BEGIN:VEVENT
DTSTART;TZID=Europe/London:20260908T100000
DTEND;TZID=Europe/London:20260908T120000
DTSTAMP:20260423T174602
CREATED:20260111T134106Z
LAST-MODIFIED:20260111T134252Z
UID:10005263-1788861600-1788868800@www.stsaviours.net
SUMMARY:Knit\, Crochet and Chatter
DESCRIPTION:Everyone who likes knitting or crochet\, sewing or embroidery\, even crafts – bring your own and join in the fun! Share ideas and patterns\, learn new skills\, and have a chat! \nRefreshments available. \nAll welcome at this group. Feel free to bring friends and neighbours along too. \nTakes place: First\, Third and Fifth Tuesday of each month (except during school holidays) \nVenue: the Link \nCost: no charge
URL:https://www.stsaviours.net/event/knit-and-natter-2-2-2/2026-09-08/
LOCATION:The Link\, St Saviour’s Church
ATTACH;FMTTYPE=image/png:https://www.stsaviours.net/wp-content/uploads/2021/11/knit.png
END:VEVENT
BEGIN:VEVENT
DTSTART;TZID=Europe/London:20260915T100000
DTEND;TZID=Europe/London:20260915T120000
DTSTAMP:20260423T174602
CREATED:20260111T134106Z
LAST-MODIFIED:20260111T134252Z
UID:10005264-1789466400-1789473600@www.stsaviours.net
SUMMARY:Knit\, Crochet and Chatter
DESCRIPTION:Everyone who likes knitting or crochet\, sewing or embroidery\, even crafts – bring your own and join in the fun! Share ideas and patterns\, learn new skills\, and have a chat! \nRefreshments available. \nAll welcome at this group. Feel free to bring friends and neighbours along too. \nTakes place: First\, Third and Fifth Tuesday of each month (except during school holidays) \nVenue: the Link \nCost: no charge
URL:https://www.stsaviours.net/event/knit-and-natter-2-2-2/2026-09-15/
LOCATION:The Link\, St Saviour’s Church
ATTACH;FMTTYPE=image/png:https://www.stsaviours.net/wp-content/uploads/2021/11/knit.png
END:VEVENT
BEGIN:VEVENT
DTSTART;TZID=Europe/London:20260922T100000
DTEND;TZID=Europe/London:20260922T120000
DTSTAMP:20260423T174602
CREATED:20260111T134106Z
LAST-MODIFIED:20260111T134252Z
UID:10005265-1790071200-1790078400@www.stsaviours.net
SUMMARY:Knit\, Crochet and Chatter
DESCRIPTION:Everyone who likes knitting or crochet\, sewing or embroidery\, even crafts – bring your own and join in the fun! Share ideas and patterns\, learn new skills\, and have a chat! \nRefreshments available. \nAll welcome at this group. Feel free to bring friends and neighbours along too. \nTakes place: First\, Third and Fifth Tuesday of each month (except during school holidays) \nVenue: the Link \nCost: no charge
URL:https://www.stsaviours.net/event/knit-and-natter-2-2-2/2026-09-22/
LOCATION:The Link\, St Saviour’s Church
ATTACH;FMTTYPE=image/png:https://www.stsaviours.net/wp-content/uploads/2021/11/knit.png
END:VEVENT
BEGIN:VEVENT
DTSTART;TZID=Europe/London:20260929T100000
DTEND;TZID=Europe/London:20260929T120000
DTSTAMP:20260423T174602
CREATED:20260111T134106Z
LAST-MODIFIED:20260111T134252Z
UID:10005266-1790676000-1790683200@www.stsaviours.net
SUMMARY:Knit\, Crochet and Chatter
DESCRIPTION:Everyone who likes knitting or crochet\, sewing or embroidery\, even crafts – bring your own and join in the fun! Share ideas and patterns\, learn new skills\, and have a chat! \nRefreshments available. \nAll welcome at this group. Feel free to bring friends and neighbours along too. \nTakes place: First\, Third and Fifth Tuesday of each month (except during school holidays) \nVenue: the Link \nCost: no charge
URL:https://www.stsaviours.net/event/knit-and-natter-2-2-2/2026-09-29/
LOCATION:The Link\, St Saviour’s Church
ATTACH;FMTTYPE=image/png:https://www.stsaviours.net/wp-content/uploads/2021/11/knit.png
END:VEVENT
BEGIN:VEVENT
DTSTART;TZID=Europe/London:20261006T100000
DTEND;TZID=Europe/London:20261006T120000
DTSTAMP:20260423T174602
CREATED:20260111T134106Z
LAST-MODIFIED:20260111T134252Z
UID:10004171-1791280800-1791288000@www.stsaviours.net
SUMMARY:Knit\, Crochet and Chatter
DESCRIPTION:Everyone who likes knitting or crochet\, sewing or embroidery\, even crafts – bring your own and join in the fun! Share ideas and patterns\, learn new skills\, and have a chat! \nRefreshments available. \nAll welcome at this group. Feel free to bring friends and neighbours along too. \nTakes place: First\, Third and Fifth Tuesday of each month (except during school holidays) \nVenue: the Link \nCost: no charge
URL:https://www.stsaviours.net/event/knit-and-natter-2-2-2/2026-10-06/
LOCATION:The Link\, St Saviour’s Church
ATTACH;FMTTYPE=image/png:https://www.stsaviours.net/wp-content/uploads/2021/11/knit.png
END:VEVENT
BEGIN:VEVENT
DTSTART;TZID=Europe/London:20261013T100000
DTEND;TZID=Europe/London:20261013T120000
DTSTAMP:20260423T174602
CREATED:20260111T134106Z
LAST-MODIFIED:20260111T134252Z
UID:10005267-1791885600-1791892800@www.stsaviours.net
SUMMARY:Knit\, Crochet and Chatter
DESCRIPTION:Everyone who likes knitting or crochet\, sewing or embroidery\, even crafts – bring your own and join in the fun! Share ideas and patterns\, learn new skills\, and have a chat! \nRefreshments available. \nAll welcome at this group. Feel free to bring friends and neighbours along too. \nTakes place: First\, Third and Fifth Tuesday of each month (except during school holidays) \nVenue: the Link \nCost: no charge
URL:https://www.stsaviours.net/event/knit-and-natter-2-2-2/2026-10-13/
LOCATION:The Link\, St Saviour’s Church
ATTACH;FMTTYPE=image/png:https://www.stsaviours.net/wp-content/uploads/2021/11/knit.png
END:VEVENT
BEGIN:VEVENT
DTSTART;TZID=Europe/London:20261020T100000
DTEND;TZID=Europe/London:20261020T120000
DTSTAMP:20260423T174602
CREATED:20260111T134106Z
LAST-MODIFIED:20260111T134252Z
UID:10005268-1792490400-1792497600@www.stsaviours.net
SUMMARY:Knit\, Crochet and Chatter
DESCRIPTION:Everyone who likes knitting or crochet\, sewing or embroidery\, even crafts – bring your own and join in the fun! Share ideas and patterns\, learn new skills\, and have a chat! \nRefreshments available. \nAll welcome at this group. Feel free to bring friends and neighbours along too. \nTakes place: First\, Third and Fifth Tuesday of each month (except during school holidays) \nVenue: the Link \nCost: no charge
URL:https://www.stsaviours.net/event/knit-and-natter-2-2-2/2026-10-20/
LOCATION:The Link\, St Saviour’s Church
ATTACH;FMTTYPE=image/png:https://www.stsaviours.net/wp-content/uploads/2021/11/knit.png
END:VEVENT
BEGIN:VEVENT
DTSTART;TZID=Europe/London:20261027T100000
DTEND;TZID=Europe/London:20261027T120000
DTSTAMP:20260423T174602
CREATED:20260111T134106Z
LAST-MODIFIED:20260111T134252Z
UID:10005269-1793095200-1793102400@www.stsaviours.net
SUMMARY:Knit\, Crochet and Chatter
DESCRIPTION:Everyone who likes knitting or crochet\, sewing or embroidery\, even crafts – bring your own and join in the fun! Share ideas and patterns\, learn new skills\, and have a chat! \nRefreshments available. \nAll welcome at this group. Feel free to bring friends and neighbours along too. \nTakes place: First\, Third and Fifth Tuesday of each month (except during school holidays) \nVenue: the Link \nCost: no charge
URL:https://www.stsaviours.net/event/knit-and-natter-2-2-2/2026-10-27/
LOCATION:The Link\, St Saviour’s Church
ATTACH;FMTTYPE=image/png:https://www.stsaviours.net/wp-content/uploads/2021/11/knit.png
END:VEVENT
BEGIN:VEVENT
DTSTART;TZID=Europe/London:20261103T100000
DTEND;TZID=Europe/London:20261103T120000
DTSTAMP:20260423T174602
CREATED:20260111T134106Z
LAST-MODIFIED:20260111T134252Z
UID:10004172-1793700000-1793707200@www.stsaviours.net
SUMMARY:Knit\, Crochet and Chatter
DESCRIPTION:Everyone who likes knitting or crochet\, sewing or embroidery\, even crafts – bring your own and join in the fun! Share ideas and patterns\, learn new skills\, and have a chat! \nRefreshments available. \nAll welcome at this group. Feel free to bring friends and neighbours along too. \nTakes place: First\, Third and Fifth Tuesday of each month (except during school holidays) \nVenue: the Link \nCost: no charge
URL:https://www.stsaviours.net/event/knit-and-natter-2-2-2/2026-11-03/
LOCATION:The Link\, St Saviour’s Church
ATTACH;FMTTYPE=image/png:https://www.stsaviours.net/wp-content/uploads/2021/11/knit.png
END:VEVENT
BEGIN:VEVENT
DTSTART;TZID=Europe/London:20261110T100000
DTEND;TZID=Europe/London:20261110T120000
DTSTAMP:20260423T174602
CREATED:20260111T134106Z
LAST-MODIFIED:20260111T134252Z
UID:10005270-1794304800-1794312000@www.stsaviours.net
SUMMARY:Knit\, Crochet and Chatter
DESCRIPTION:Everyone who likes knitting or crochet\, sewing or embroidery\, even crafts – bring your own and join in the fun! Share ideas and patterns\, learn new skills\, and have a chat! \nRefreshments available. \nAll welcome at this group. Feel free to bring friends and neighbours along too. \nTakes place: First\, Third and Fifth Tuesday of each month (except during school holidays) \nVenue: the Link \nCost: no charge
URL:https://www.stsaviours.net/event/knit-and-natter-2-2-2/2026-11-10/
LOCATION:The Link\, St Saviour’s Church
ATTACH;FMTTYPE=image/png:https://www.stsaviours.net/wp-content/uploads/2021/11/knit.png
END:VEVENT
BEGIN:VEVENT
DTSTART;TZID=Europe/London:20261117T100000
DTEND;TZID=Europe/London:20261117T120000
DTSTAMP:20260423T174602
CREATED:20260111T134106Z
LAST-MODIFIED:20260111T134252Z
UID:10005271-1794909600-1794916800@www.stsaviours.net
SUMMARY:Knit\, Crochet and Chatter
DESCRIPTION:Everyone who likes knitting or crochet\, sewing or embroidery\, even crafts – bring your own and join in the fun! Share ideas and patterns\, learn new skills\, and have a chat! \nRefreshments available. \nAll welcome at this group. Feel free to bring friends and neighbours along too. \nTakes place: First\, Third and Fifth Tuesday of each month (except during school holidays) \nVenue: the Link \nCost: no charge
URL:https://www.stsaviours.net/event/knit-and-natter-2-2-2/2026-11-17/
LOCATION:The Link\, St Saviour’s Church
ATTACH;FMTTYPE=image/png:https://www.stsaviours.net/wp-content/uploads/2021/11/knit.png
END:VEVENT
END:VCALENDAR