BEGIN:VCALENDAR
VERSION:2.0
PRODID:-//St Saviours - ECPv6.15.20//NONSGML v1.0//EN
CALSCALE:GREGORIAN
METHOD:PUBLISH
X-WR-CALNAME:St Saviours
X-ORIGINAL-URL:https://www.stsaviours.net
X-WR-CALDESC:Events for St Saviours
REFRESH-INTERVAL;VALUE=DURATION:PT1H
X-Robots-Tag:noindex
X-PUBLISHED-TTL:PT1H
BEGIN:VTIMEZONE
TZID:Europe/London
BEGIN:DAYLIGHT
TZOFFSETFROM:+0000
TZOFFSETTO:+0100
TZNAME:BST
DTSTART:20240331T010000
END:DAYLIGHT
BEGIN:STANDARD
TZOFFSETFROM:+0100
TZOFFSETTO:+0000
TZNAME:GMT
DTSTART:20241027T010000
END:STANDARD
BEGIN:DAYLIGHT
TZOFFSETFROM:+0000
TZOFFSETTO:+0100
TZNAME:BST
DTSTART:20250330T010000
END:DAYLIGHT
BEGIN:STANDARD
TZOFFSETFROM:+0100
TZOFFSETTO:+0000
TZNAME:GMT
DTSTART:20251026T010000
END:STANDARD
BEGIN:DAYLIGHT
TZOFFSETFROM:+0000
TZOFFSETTO:+0100
TZNAME:BST
DTSTART:20260329T010000
END:DAYLIGHT
BEGIN:STANDARD
TZOFFSETFROM:+0100
TZOFFSETTO:+0000
TZNAME:GMT
DTSTART:20261025T010000
END:STANDARD
END:VTIMEZONE
BEGIN:VEVENT
DTSTART;TZID=Europe/London:20250630T100000
DTEND;TZID=Europe/London:20250630T120000
DTSTAMP:20260423T173838
CREATED:20230905T113706Z
LAST-MODIFIED:20231214T161640Z
UID:10001998-1751277600-1751284800@www.stsaviours.net
SUMMARY:Art and Craft Group
DESCRIPTION:Enjoy a time of friendly encouragement\, while you get creative. Set some time aside for your artistic or crafty endeavours: there will be lots available or you can bring your own craft project with you to craft in company! \nArt and Craft Connections is a place of fun\, and a place of growth: friendships\, craft skills\, creative ideas\, and links between people of different ages and cultures. \nAll ages\, all nationalities\, all abilities welcome. Feel free to bring friends and neighbours with you. A limited range of art materials is provided\, but you are most welcome to bring your own. \nAny queries\, please contact Penny Fradsham via the office. \nTakes place: Monday mornings\, 10am-12pm \nVenue: the Link \nCost: no membership fee\, but donations towards the cost of materials are welcome
URL:https://www.stsaviours.net/event/art-and-craft-group-2/2025-06-30/
CATEGORIES:Community,This Week
ATTACH;FMTTYPE=image/png:https://www.stsaviours.net/wp-content/uploads/2019/07/thursday-diamond-times-5.png
END:VEVENT
END:VCALENDAR